BEGIN:VCALENDAR
VERSION:2.0
PRODID:-//Sustainable Warminster - ECPv6.15.20//NONSGML v1.0//EN
CALSCALE:GREGORIAN
METHOD:PUBLISH
X-ORIGINAL-URL:https://sustainablewarminster.co.uk
X-WR-CALDESC:Events for Sustainable Warminster
REFRESH-INTERVAL;VALUE=DURATION:PT1H
X-Robots-Tag:noindex
X-PUBLISHED-TTL:PT1H
BEGIN:VTIMEZONE
TZID:Europe/London
BEGIN:DAYLIGHT
TZOFFSETFROM:+0000
TZOFFSETTO:+0100
TZNAME:BST
DTSTART:20240331T010000
END:DAYLIGHT
BEGIN:STANDARD
TZOFFSETFROM:+0100
TZOFFSETTO:+0000
TZNAME:GMT
DTSTART:20241027T010000
END:STANDARD
BEGIN:DAYLIGHT
TZOFFSETFROM:+0000
TZOFFSETTO:+0100
TZNAME:BST
DTSTART:20250330T010000
END:DAYLIGHT
BEGIN:STANDARD
TZOFFSETFROM:+0100
TZOFFSETTO:+0000
TZNAME:GMT
DTSTART:20251026T010000
END:STANDARD
BEGIN:DAYLIGHT
TZOFFSETFROM:+0000
TZOFFSETTO:+0100
TZNAME:BST
DTSTART:20260329T010000
END:DAYLIGHT
BEGIN:STANDARD
TZOFFSETFROM:+0100
TZOFFSETTO:+0000
TZNAME:GMT
DTSTART:20261025T010000
END:STANDARD
END:VTIMEZONE
BEGIN:VEVENT
DTSTART;TZID=Europe/London:20251208T193000
DTEND;TZID=Europe/London:20251208T210000
DTSTAMP:20260420T140038
CREATED:20251021T163208Z
LAST-MODIFIED:20251021T163208Z
UID:2930-1765222200-1765227600@sustainablewarminster.co.uk
SUMMARY:Christmas Green Drinks
DESCRIPTION:December Green Drinks on Monday 8th December \nAn informal gathering. All are welcome to come along and chat about what we do or just catch up with others. New faces are always welcome! 
URL:https://sustainablewarminster.co.uk/events/christmas-green-drinks/
LOCATION:Fox and Hounds\, Deverill Road\, Warminster\, United Kingdom
CATEGORIES:Social
END:VEVENT
END:VCALENDAR